BEGIN:VCALENDAR
VERSION:2.0
PRODID:-//BETHEL ACTIVE YOUTH MINISTRY (BAYM) - ECPv5.9.0//NONSGML v1.0//EN
CALSCALE:GREGORIAN
METHOD:PUBLISH
X-WR-CALNAME:BETHEL ACTIVE YOUTH MINISTRY (BAYM)
X-ORIGINAL-URL:https://www.baymi.org
X-WR-CALDESC:Events for BETHEL ACTIVE YOUTH MINISTRY (BAYM)
BEGIN:VTIMEZONE
TZID:UTC
BEGIN:STANDARD
TZOFFSETFROM:+0000
TZOFFSETTO:+0000
TZNAME:UTC
DTSTART:20250101T000000
END:STANDARD
END:VTIMEZONE
BEGIN:VEVENT
DTSTART;TZID=UTC:20250515T080000
DTEND;TZID=UTC:20250515T170000
DTSTAMP:20260421T132515
CREATED:20200529T091400Z
LAST-MODIFIED:20210222T161803Z
UID:358-1747296000-1747328400@www.baymi.org
SUMMARY:Jesus film show
DESCRIPTION:
URL:https://www.baymi.org/event/funds-research/
LOCATION:Uganda
CATEGORIES:Donations
ATTACH;FMTTYPE=image/jpeg:https://www.baymi.org/wp-content/uploads/2021/02/Picture1.jpg
END:VEVENT
END:VCALENDAR